BEGIN:VCALENDAR
VERSION:2.0
PRODID:-//Viktoria Monori - ECPv6.0.12//NONSGML v1.0//EN
CALSCALE:GREGORIAN
METHOD:PUBLISH
X-WR-CALNAME:Viktoria Monori
X-ORIGINAL-URL:https://www.viktoriamonori.com
X-WR-CALDESC:évènements pour Viktoria Monori
REFRESH-INTERVAL;VALUE=DURATION:PT1H
X-Robots-Tag:noindex
X-PUBLISHED-TTL:PT1H
BEGIN:VTIMEZONE
TZID:Europe/Paris
BEGIN:DAYLIGHT
TZOFFSETFROM:+0100
TZOFFSETTO:+0200
TZNAME:CEST
DTSTART:20230326T010000
END:DAYLIGHT
BEGIN:STANDARD
TZOFFSETFROM:+0200
TZOFFSETTO:+0100
TZNAME:CET
DTSTART:20231029T010000
END:STANDARD
END:VTIMEZONE
BEGIN:VEVENT
DTSTART;TZID=Europe/Paris:20230409T080000
DTEND;TZID=Europe/Paris:20230409T170000
DTSTAMP:20260424T011228
CREATED:20230227T132112Z
LAST-MODIFIED:20230302T143749Z
UID:12316-1681027200-1681059600@www.viktoriamonori.com
SUMMARY:Conférence ZZZ
DESCRIPTION:
URL:https://www.viktoriamonori.com/evenement/conference-zzz/
LOCATION:Le Petit Riche\, 25 rue Le Peletier\, Paris\, 75009
CATEGORIES:Café de la Gouvernance
ATTACH;FMTTYPE=image/jpeg:https://www.viktoriamonori.com/wp-content/uploads/2023/02/MER-POISSON-2.jpg
END:VEVENT
BEGIN:VEVENT
DTSTART;TZID=Europe/Paris:20230413T080000
DTEND;TZID=Europe/Paris:20230413T170000
DTSTAMP:20260424T011228
CREATED:20230214T221739Z
LAST-MODIFIED:20230214T221739Z
UID:11368-1681372800-1681405200@www.viktoriamonori.com
SUMMARY:Conférence Y
DESCRIPTION:
URL:https://www.viktoriamonori.com/evenement/conference-y/
LOCATION:Le Petit Riche\, 25 rue Le Peletier\, Paris\, 75009
CATEGORIES:Passeport
ATTACH;FMTTYPE=image/jpeg:https://www.viktoriamonori.com/wp-content/uploads/2022/03/pexels-christina-morillo-1181396.jpg
END:VEVENT
BEGIN:VEVENT
DTSTART;TZID=Europe/Paris:20230429T083000
DTEND;TZID=Europe/Paris:20230429T100000
DTSTAMP:20260424T011228
CREATED:20220405T082024Z
LAST-MODIFIED:20230214T130043Z
UID:10177-1682757000-1682762400@www.viktoriamonori.com
SUMMARY:Passeport n°24 : La raison d’Être. Quel intérêt ? Une mode de plus ?
DESCRIPTION:Les entreprises peuvent désormais intégrer dans leurs statuts « une raison d’être ». Mais pour que celle-ci ne devienne pas une coquille vide\, elle doit s’inscrire dans un véritable cadre stratégique. \nLes entrepreneurs qui le souhaitent peuvent modifier depuis mai 2019 les statuts de leur entreprise pour inscrire une raison d’être « constituée des principes dont la société se dote et pour le respect desquels elle entend affecter des moyens dans la réalisation de son activité ». \nLe vote de la loi PACTE a ainsi entraîné dans son sillage de nombreuses initiatives de la part de dirigeants (Thierry Breton\, P-DG d’Atos\, Alexandre Bompard\, P-DG de Carrefour\, Philippe Brassac\, directeur général du Crédit Agricole\, etc.). Face à cet engouement\, le risque majeur est que cette innovation juridique génère très rapidement des déceptions et conduise à des impasses si elle ne sert pas de clé de voûte à un véritable projet stratégique. \nDe grands plans médias sont activés pour faire part de la volonté des entreprises d’inscrire une raison d’être. Mais de nombreuses questions peuvent se poser : est-ce une mode de plus une pour l’entreprise ? Masque ton un déficit de visibilité\, de légitimité ? Y a-t-il une instrumentalisation ? Est-ce une nouvelle opportunité de communiquer sans vraiment y avoir réfléchi ou adhéré ? Quel intérêt véritable y aurait-il de rentrer dans cette démarche ? Quelles en sont les implications ? et quelles en sont les limites ? Est-ce vraiment essentiel de mettre en place une raison d’être ? \nCe sont les questions que se posent les moyennes entreprises françaises\, de la startup à l’ETI\, qui vont devoir\, quoi qu’il arrive\, aborder ce sujet au sein de leur conseil d’administration. Ne pas se positionner sur un tel sujet\, pourrait être une erreur de décision. \nTous ces points vont être détaillés et débattus au cours de cette réunion\, et pour ce faire\, nous  accueillerons  Barthélémy Martinon\, certifé AQI et membre de l’ADAE\, qui nous fera le plaisir de nous éclairer sur ces enjeux et ces risques.
URL:https://www.viktoriamonori.com/evenement/passeport-n24-la-raison-detre-quel-interet-une-mode-de-plus/
LOCATION:Le Petit Riche\, 25 rue Le Peletier\, Paris\, 75009
CATEGORIES:Passeport
ATTACH;FMTTYPE=image/jpeg:https://www.viktoriamonori.com/wp-content/uploads/2022/03/pexels-christina-morillo-1181396.jpg
END:VEVENT
END:VCALENDAR